BEGIN:VCALENDAR
VERSION:2.0
PRODID:-// - ECPv6.15.11//NONSGML v1.0//EN
CALSCALE:GREGORIAN
METHOD:PUBLISH
X-ORIGINAL-URL:https://www.st-michael-duisburg.de
X-WR-CALDESC:Veranstaltungen für 
REFRESH-INTERVAL;VALUE=DURATION:PT1H
X-Robots-Tag:noindex
X-PUBLISHED-TTL:PT1H
BEGIN:VTIMEZONE
TZID:Europe/Berlin
BEGIN:DAYLIGHT
TZOFFSETFROM:+0100
TZOFFSETTO:+0200
TZNAME:CEST
DTSTART:20230326T010000
END:DAYLIGHT
BEGIN:STANDARD
TZOFFSETFROM:+0200
TZOFFSETTO:+0100
TZNAME:CET
DTSTART:20231029T010000
END:STANDARD
BEGIN:DAYLIGHT
TZOFFSETFROM:+0100
TZOFFSETTO:+0200
TZNAME:CEST
DTSTART:20240331T010000
END:DAYLIGHT
BEGIN:STANDARD
TZOFFSETFROM:+0200
TZOFFSETTO:+0100
TZNAME:CET
DTSTART:20241027T010000
END:STANDARD
BEGIN:DAYLIGHT
TZOFFSETFROM:+0100
TZOFFSETTO:+0200
TZNAME:CEST
DTSTART:20250330T010000
END:DAYLIGHT
BEGIN:STANDARD
TZOFFSETFROM:+0200
TZOFFSETTO:+0100
TZNAME:CET
DTSTART:20251026T010000
END:STANDARD
END:VTIMEZONE
BEGIN:VEVENT
DTSTART;VALUE=DATE:20240727
DTEND;VALUE=DATE:20240804
DTSTAMP:20260421T110557
CREATED:20230924T093707Z
LAST-MODIFIED:20230924T093707Z
UID:2616-1722038400-1722729599@www.st-michael-duisburg.de
SUMMARY:Romwallfahrt der Messdiener*innen
DESCRIPTION:Die internationale Ministrant*innenwallfahrt nach Rom ist zum dreizehnten Mal ein Highlight der Ministrant*innen-Arbeit. Vom 28. Juli bis zum 2. August 2024 werden sich wieder tausende Messdiener*innen aus aller Welt in Rom treffen\, dem Papst begegnen\, Gemeinschaft erleben und eine unvergessliche Zeit haben. Das Motto 2024 lautet „MIT DIR“. Hinter diesen zwei Worten steckt eine entscheidende Aussage: Es braucht dich! Du bist wichtig! Sei dabei – so wie du bist! \nSolltest Du Interesse haben und im jahr 2024 14 Jahre alt sein bzw werden\, melde dich frühzeitig unter jugendteam@st-michael-duisburg.de. \nDie Teilnahme kostet 645\,00€ \nIm Preis sind folgende Leistungen enthalten: \nDie An- und Abreise mit komfortablen Reisebussen\, \nfünf Übernachtungen in Mehrbettzimmern mit Bad/Dusche und WC inklusive italienischem Frühstücksbuffet\, \neine Wochenfahrkarte für die unbegrenzte Nutzung der öffentlichen Verkehrsmittel\, \neine Reisekrankenversicherung gemäß den Bedingungen der ERGO Reiseversicherung mit Selbstbeteiligung\, \nein Pilgerpaket sowie das Veranstaltungsprogramm des CIM (Internationaler Ministrantenbund) und des Bistums Essen.
URL:https://www.st-michael-duisburg.de/veranstaltung/romwallfahrt-der-messdienerinnen/
END:VEVENT
BEGIN:VEVENT
DTSTART;VALUE=DATE:20240831
DTEND;VALUE=DATE:20240902
DTSTAMP:20260421T110557
CREATED:20240823T110047Z
LAST-MODIFIED:20240823T110047Z
UID:2862-1725062400-1725235199@www.st-michael-duisburg.de
SUMMARY:Gemeindefest in St. Bernhard
DESCRIPTION:Unser Kirchort St. Bernhard (Duisburg Obermeiderich) lädt am Sonntag 1.September 2024 ab 11 Uhr  zum Gemeindefest\, sowie am Vortag um 18 Uhr zum Fassanstich ein. \n \n 
URL:https://www.st-michael-duisburg.de/veranstaltung/gemeindefest-in-st-bernhard-2/
LOCATION:Gemeindesaal St. Bernhard
END:VEVENT
END:VCALENDAR