BEGIN:VCALENDAR
VERSION:2.0
PRODID:-// - ECPv6.15.11//NONSGML v1.0//EN
CALSCALE:GREGORIAN
METHOD:PUBLISH
X-ORIGINAL-URL:https://www.st-michael-duisburg.de
X-WR-CALDESC:Veranstaltungen für 
REFRESH-INTERVAL;VALUE=DURATION:PT1H
X-Robots-Tag:noindex
X-PUBLISHED-TTL:PT1H
BEGIN:VTIMEZONE
TZID:Europe/Berlin
BEGIN:DAYLIGHT
TZOFFSETFROM:+0100
TZOFFSETTO:+0200
TZNAME:CEST
DTSTART:20220327T010000
END:DAYLIGHT
BEGIN:STANDARD
TZOFFSETFROM:+0200
TZOFFSETTO:+0100
TZNAME:CET
DTSTART:20221030T010000
END:STANDARD
BEGIN:DAYLIGHT
TZOFFSETFROM:+0100
TZOFFSETTO:+0200
TZNAME:CEST
DTSTART:20230326T010000
END:DAYLIGHT
BEGIN:STANDARD
TZOFFSETFROM:+0200
TZOFFSETTO:+0100
TZNAME:CET
DTSTART:20231029T010000
END:STANDARD
BEGIN:DAYLIGHT
TZOFFSETFROM:+0100
TZOFFSETTO:+0200
TZNAME:CEST
DTSTART:20240331T010000
END:DAYLIGHT
BEGIN:STANDARD
TZOFFSETFROM:+0200
TZOFFSETTO:+0100
TZNAME:CET
DTSTART:20241027T010000
END:STANDARD
END:VTIMEZONE
BEGIN:VEVENT
DTSTART;TZID=Europe/Berlin:20230506T170000
DTEND;TZID=Europe/Berlin:20230506T193000
DTSTAMP:20260424T080654
CREATED:20221111T165819Z
LAST-MODIFIED:20221111T165819Z
UID:2109-1683392400-1683401400@www.st-michael-duisburg.de
SUMMARY:Jugendtreff St. Michael (Meiderich)
DESCRIPTION:
URL:https://www.st-michael-duisburg.de/veranstaltung/jugendtreff-st-michael-meiderich-4/
LOCATION:Michaelssaal
END:VEVENT
BEGIN:VEVENT
DTSTART;TZID=Europe/Berlin:20230507T111500
DTEND;TZID=Europe/Berlin:20230507T120000
DTSTAMP:20260424T080654
CREATED:20221111T165540Z
LAST-MODIFIED:20221111T165541Z
UID:2105-1683458100-1683460800@www.st-michael-duisburg.de
SUMMARY:Feier der Erstkommunion in St. Michael
DESCRIPTION:
URL:https://www.st-michael-duisburg.de/veranstaltung/feier-der-erstkommunion-in-st-michael/
LOCATION:St. Michael\, Von-der-Mark-Straße 68a\, Duisburg\, Nordrhein-Westfalen\, 47137\, Deutschland
END:VEVENT
BEGIN:VEVENT
DTSTART;TZID=Europe/Berlin:20230507T111500
DTEND;TZID=Europe/Berlin:20230507T123000
DTSTAMP:20260424T080654
CREATED:20230427T085449Z
LAST-MODIFIED:20230427T085449Z
UID:2445-1683458100-1683462600@www.st-michael-duisburg.de
SUMMARY:Feier der Erstkommunion in St. Ewaldi (Laar)
DESCRIPTION:
URL:https://www.st-michael-duisburg.de/veranstaltung/feier-der-erstkommunion-in-st-ewaldi-laar/
END:VEVENT
BEGIN:VEVENT
DTSTART;TZID=Europe/Berlin:20230514T094500
DTEND;TZID=Europe/Berlin:20230514T113000
DTSTAMP:20260424T080654
CREATED:20230308T152506Z
LAST-MODIFIED:20230308T152506Z
UID:2363-1684057500-1684063800@www.st-michael-duisburg.de
SUMMARY:Feier der Erstkommunion in St. Maximilian (Ruhrort)
DESCRIPTION:
URL:https://www.st-michael-duisburg.de/veranstaltung/feier-der-erstkommunion-in-st-maximilian-ruhrort/
LOCATION:St. Maximilian
END:VEVENT
BEGIN:VEVENT
DTSTART;TZID=Europe/Berlin:20230514T100000
DTEND;TZID=Europe/Berlin:20230514T130000
DTSTAMP:20260424T080654
CREATED:20230427T104315Z
LAST-MODIFIED:20230427T104315Z
UID:2448-1684058400-1684069200@www.st-michael-duisburg.de
SUMMARY:125 Jahre St. Bernhard
DESCRIPTION:Am Sonntag\, 14. Mai feiern wir das Jubiläum der Kirche St. Bernhard mit einem Festgottesdienst in dieser Kirche. Der Gottesdienst beginnt um 10:00 Uhr.  \nAnschließend sind alle zum gemeinsamen Frühstück in den Bernhardssaal eingeladen.
URL:https://www.st-michael-duisburg.de/veranstaltung/125-jahre-st-bernhard/
LOCATION:St. Bernhard\, Albrechtstrasse 23\, Duisburg\, 47138
END:VEVENT
BEGIN:VEVENT
DTSTART;TZID=Europe/Berlin:20230514T111500
DTEND;TZID=Europe/Berlin:20230514T120000
DTSTAMP:20260424T080654
CREATED:20221111T165653Z
LAST-MODIFIED:20221111T165654Z
UID:2107-1684062900-1684065600@www.st-michael-duisburg.de
SUMMARY:Feier der Erstkommunion in St. Michael (Meiderich)
DESCRIPTION:
URL:https://www.st-michael-duisburg.de/veranstaltung/feier-der-erstkommunion-in-st-michael-meiderich/
LOCATION:St. Michael\, Von-der-Mark-Straße 68a\, Duisburg\, Nordrhein-Westfalen\, 47137\, Deutschland
END:VEVENT
BEGIN:VEVENT
DTSTART;TZID=Europe/Berlin:20230516T193000
DTEND;TZID=Europe/Berlin:20230516T213000
DTSTAMP:20260424T080654
CREATED:20230416T174510Z
LAST-MODIFIED:20230416T174856Z
UID:2435-1684265400-1684272600@www.st-michael-duisburg.de
SUMMARY:Jugendteam Sitzung
DESCRIPTION:Einladung zur Jugendteam-Sitzung \nöffentliche Sitzung am 16.05.2023 um 19:30 Uhr \nam Kirchort St. Maximilian im Maximilianhaus\nRaum der Kinder- und Jugendgruppe! \nHiermit möchten wir alle Ansprechpersonen der Jugendarbeit und alle interessierten\nJugendlichen der Pfarrei St. Michael zum Austausch und Planen konkreter Aktionen\nvor Ort einladen. \nIn dieser Sitzung wollen wir auf die Jahresplanung für 2023 schauen und suchen\nweitere Mitstreiterinnen und Mitstreiter für unsere Aktionen. \nDu hast ein konkretes Anliegen oder bist neugierig\, worüber das Jugendteam gerade\nso nachdenkt? Komm uns gerne an diesem Abend in Ruhrort besuchen.\nDu möchtest regelmäßig an den Sitzungen des Jugendteams teilnehmen?\nDu möchtest uns während der Aktionen und Projekte unterstützen? \nDann lass uns Deine Mailadresse da (jugendteam@st-michael-duisburg.de) und wir\nhalten Dich auf dem Laufenden! \nWir freuen uns auf Dich! \nDas Jugendteam der Pfarrei St. Michael
URL:https://www.st-michael-duisburg.de/veranstaltung/jugendteam-sitzung/
LOCATION:Maximilianhaus\, Weinhagenstr. 25\, Duisburg\, 47119
END:VEVENT
END:VCALENDAR