BEGIN:VCALENDAR
VERSION:2.0
PRODID:-// - ECPv6.15.11//NONSGML v1.0//EN
CALSCALE:GREGORIAN
METHOD:PUBLISH
X-ORIGINAL-URL:https://www.st-michael-duisburg.de
X-WR-CALDESC:Veranstaltungen für 
REFRESH-INTERVAL;VALUE=DURATION:PT1H
X-Robots-Tag:noindex
X-PUBLISHED-TTL:PT1H
BEGIN:VTIMEZONE
TZID:Europe/Berlin
BEGIN:DAYLIGHT
TZOFFSETFROM:+0100
TZOFFSETTO:+0200
TZNAME:CEST
DTSTART:20220327T010000
END:DAYLIGHT
BEGIN:STANDARD
TZOFFSETFROM:+0200
TZOFFSETTO:+0100
TZNAME:CET
DTSTART:20221030T010000
END:STANDARD
BEGIN:DAYLIGHT
TZOFFSETFROM:+0100
TZOFFSETTO:+0200
TZNAME:CEST
DTSTART:20230326T010000
END:DAYLIGHT
BEGIN:STANDARD
TZOFFSETFROM:+0200
TZOFFSETTO:+0100
TZNAME:CET
DTSTART:20231029T010000
END:STANDARD
BEGIN:DAYLIGHT
TZOFFSETFROM:+0100
TZOFFSETTO:+0200
TZNAME:CEST
DTSTART:20240331T010000
END:DAYLIGHT
BEGIN:STANDARD
TZOFFSETFROM:+0200
TZOFFSETTO:+0100
TZNAME:CET
DTSTART:20241027T010000
END:STANDARD
END:VTIMEZONE
BEGIN:VEVENT
DTSTART;VALUE=DATE:20230105
DTEND;VALUE=DATE:20230109
DTSTAMP:20260424T163338
CREATED:20221111T160940Z
LAST-MODIFIED:20221111T160941Z
UID:2081-1672876800-1673222399@www.st-michael-duisburg.de
SUMMARY:Sternsingeraktion in der Pfarrei St. Michael
DESCRIPTION:In diesen Tagen der Sternsingeraktion ziehen unsere Sternsinger durch weite Teile des gesamten Pfarreigebiet. Ortsabhängige Besonderheiten\, sowie die aktuellen Corona-Regelungen sind zu berücksichtigen.
URL:https://www.st-michael-duisburg.de/veranstaltung/sternsingeraktion-in-der-pfarrei-st-michael/
LOCATION:Pfarrei St. Michael\, Deutschland
END:VEVENT
BEGIN:VEVENT
DTSTART;TZID=Europe/Berlin:20230105T170000
DTEND;TZID=Europe/Berlin:20230105T174500
DTSTAMP:20260424T163338
CREATED:20221111T161143Z
LAST-MODIFIED:20221111T161143Z
UID:2084-1672938000-1672940700@www.st-michael-duisburg.de
SUMMARY:Eröffnungsgottesdienst der Sternsingeraktion in St. Michael (Meiderich)
DESCRIPTION:
URL:https://www.st-michael-duisburg.de/veranstaltung/eroeffnungsgottesdienst-der-sternsingeraktion-in-st-michael-meiderich/
LOCATION:St. Michael\, Von-der-Mark-Straße 68a\, Duisburg\, Nordrhein-Westfalen\, 47137\, Deutschland
END:VEVENT
BEGIN:VEVENT
DTSTART;TZID=Europe/Berlin:20230108T111500
DTEND;TZID=Europe/Berlin:20230108T120000
DTSTAMP:20260424T163338
CREATED:20221111T161320Z
LAST-MODIFIED:20221111T161320Z
UID:2086-1673176500-1673179200@www.st-michael-duisburg.de
SUMMARY:Abschlussgottesdienst der Sternsingeraktion in St. Michael (Meiderich)
DESCRIPTION:
URL:https://www.st-michael-duisburg.de/veranstaltung/abschlussgottesdienst-der-sternsingeraktion-in-st-michael-meiderich/
LOCATION:St. Michael\, Von-der-Mark-Straße 68a\, Duisburg\, Nordrhein-Westfalen\, 47137\, Deutschland
END:VEVENT
BEGIN:VEVENT
DTSTART;TZID=Europe/Berlin:20230110T170000
DTEND;TZID=Europe/Berlin:20230110T190000
DTSTAMP:20260424T163338
CREATED:20230109T141832Z
LAST-MODIFIED:20230109T141832Z
UID:2260-1673370000-1673377200@www.st-michael-duisburg.de
SUMMARY:Kinder- und Jugendtreff St. Maximilian (Ruhrort)
DESCRIPTION:
URL:https://www.st-michael-duisburg.de/veranstaltung/kinder-und-jugendtreff-st-maximilian-ruhrort-12/
LOCATION:Maximilianhaus\, Weinhagenstr. 25\, Duisburg\, 47119
END:VEVENT
BEGIN:VEVENT
DTSTART;TZID=Europe/Berlin:20230114T170000
DTEND;TZID=Europe/Berlin:20230114T193000
DTSTAMP:20260424T163338
CREATED:20221111T162640Z
LAST-MODIFIED:20221111T162640Z
UID:2088-1673715600-1673724600@www.st-michael-duisburg.de
SUMMARY:Jugendtreff St. Michael
DESCRIPTION:
URL:https://www.st-michael-duisburg.de/veranstaltung/jugendtreff-st-michael/
LOCATION:Michaelssaal
END:VEVENT
BEGIN:VEVENT
DTSTART;TZID=Europe/Berlin:20230121T150000
DTEND;TZID=Europe/Berlin:20230121T170000
DTSTAMP:20260424T163338
CREATED:20230119T154649Z
LAST-MODIFIED:20230119T154649Z
UID:2264-1674313200-1674320400@www.st-michael-duisburg.de
SUMMARY:Kinder- und Jugendtreff St. Maximilian (Ruhrort)
DESCRIPTION:
URL:https://www.st-michael-duisburg.de/veranstaltung/kinder-und-jugendtreff-st-maximilian-ruhrort-13/
LOCATION:Maximilianhaus\, Weinhagenstr. 25\, Duisburg\, 47119
END:VEVENT
BEGIN:VEVENT
DTSTART;TZID=Europe/Berlin:20230124T170000
DTEND;TZID=Europe/Berlin:20230124T190000
DTSTAMP:20260424T163338
CREATED:20230119T155017Z
LAST-MODIFIED:20230119T155017Z
UID:2267-1674579600-1674586800@www.st-michael-duisburg.de
SUMMARY:Kinder- und Jugendtreff St. Maximilian (Ruhrort)
DESCRIPTION:
URL:https://www.st-michael-duisburg.de/veranstaltung/kinder-und-jugendtreff-st-maximilian-ruhrort-14/
LOCATION:Maximilianhaus\, Weinhagenstr. 25\, Duisburg\, 47119
END:VEVENT
END:VCALENDAR