BEGIN:VCALENDAR
VERSION:2.0
PRODID:-// - ECPv6.15.11//NONSGML v1.0//EN
CALSCALE:GREGORIAN
METHOD:PUBLISH
X-ORIGINAL-URL:https://www.st-michael-duisburg.de
X-WR-CALDESC:Veranstaltungen für 
REFRESH-INTERVAL;VALUE=DURATION:PT1H
X-Robots-Tag:noindex
X-PUBLISHED-TTL:PT1H
BEGIN:VTIMEZONE
TZID:Europe/Berlin
BEGIN:DAYLIGHT
TZOFFSETFROM:+0100
TZOFFSETTO:+0200
TZNAME:CEST
DTSTART:20210328T010000
END:DAYLIGHT
BEGIN:STANDARD
TZOFFSETFROM:+0200
TZOFFSETTO:+0100
TZNAME:CET
DTSTART:20211031T010000
END:STANDARD
BEGIN:DAYLIGHT
TZOFFSETFROM:+0100
TZOFFSETTO:+0200
TZNAME:CEST
DTSTART:20220327T010000
END:DAYLIGHT
BEGIN:STANDARD
TZOFFSETFROM:+0200
TZOFFSETTO:+0100
TZNAME:CET
DTSTART:20221030T010000
END:STANDARD
BEGIN:DAYLIGHT
TZOFFSETFROM:+0100
TZOFFSETTO:+0200
TZNAME:CEST
DTSTART:20230326T010000
END:DAYLIGHT
BEGIN:STANDARD
TZOFFSETFROM:+0200
TZOFFSETTO:+0100
TZNAME:CET
DTSTART:20231029T010000
END:STANDARD
END:VTIMEZONE
BEGIN:VEVENT
DTSTART;TZID=Europe/Berlin:20221112T150000
DTEND;TZID=Europe/Berlin:20221112T170000
DTSTAMP:20260424T162944
CREATED:20221111T143504Z
LAST-MODIFIED:20221111T153950Z
UID:2050-1668265200-1668272400@www.st-michael-duisburg.de
SUMMARY:Kinder- und Jugendtreff St. Maximilian (Ruhrort)
DESCRIPTION:
URL:https://www.st-michael-duisburg.de/veranstaltung/kinder-und-jugendtreff-st-maximilian-ruhrort/
LOCATION:Maximilianhaus\, Weinhagenstr. 25\, Duisburg\, 47119
END:VEVENT
BEGIN:VEVENT
DTSTART;TZID=Europe/Berlin:20221113T110000
DTEND;TZID=Europe/Berlin:20221113T120000
DTSTAMP:20260424T162944
CREATED:20221111T145938Z
LAST-MODIFIED:20221111T153913Z
UID:2056-1668337200-1668340800@www.st-michael-duisburg.de
SUMMARY:Messdienertreffen St. Michael (Meiderich)
DESCRIPTION:
URL:https://www.st-michael-duisburg.de/veranstaltung/messdienertreffen-st-michael-meiderich/
LOCATION:St. Michael\, Von-der-Mark-Straße 68a\, Duisburg\, Nordrhein-Westfalen\, 47137\, Deutschland
END:VEVENT
BEGIN:VEVENT
DTSTART;TZID=Europe/Berlin:20221113T160000
DTEND;TZID=Europe/Berlin:20221113T180000
DTSTAMP:20260424T162944
CREATED:20221111T144812Z
LAST-MODIFIED:20221111T153828Z
UID:2052-1668355200-1668362400@www.st-michael-duisburg.de
SUMMARY:Informationstreffen zum Weltjugendtag 2023 in Lissabon
DESCRIPTION:
URL:https://www.st-michael-duisburg.de/veranstaltung/informationstreffen-zum-weltjugendtag-2023-in-lissabon/
LOCATION:Jugendkirche TABGHA\, Dellplatz\, Duisburg\, 47051\, Germany
ORGANIZER;CN="BDKJ des Bistums Essen":MAILTO:fachstellejugend@bistum-essen.de
END:VEVENT
BEGIN:VEVENT
DTSTART;TZID=Europe/Berlin:20221115T170000
DTEND;TZID=Europe/Berlin:20221115T190000
DTSTAMP:20260424T162944
CREATED:20221111T173225Z
LAST-MODIFIED:20221111T173226Z
UID:2142-1668531600-1668538800@www.st-michael-duisburg.de
SUMMARY:Kinder- und Jugendtreff St. Maximilian (Ruhrort)
DESCRIPTION:
URL:https://www.st-michael-duisburg.de/veranstaltung/kinder-und-jugendtreff-st-maximilian-ruhrort-11/
LOCATION:Maximilianhaus\, Weinhagenstr. 25\, Duisburg\, 47119
END:VEVENT
BEGIN:VEVENT
DTSTART;TZID=Europe/Berlin:20221119T100000
DTEND;TZID=Europe/Berlin:20221119T130000
DTSTAMP:20260424T162944
CREATED:20221109T130708Z
LAST-MODIFIED:20221109T130708Z
UID:1999-1668852000-1668862800@www.st-michael-duisburg.de
SUMMARY:Informationsveranstaltung des Abteigymnasiums
DESCRIPTION:Gymnasium für Mädchen und Jungen des Bistums Essen mit bilingual-englischem ZweigKennenlerngespräche ab dem 21.11.2022 bis zum 18.01.2023 nach Vereinbarung \nAn der Abtei 10 Tel.: 0203 / 55594-0 www.abtei-gymnasium.de47166 Duisburg Fax: 0203 / 55594-32 info@abtei-gymnasium.de \n 
URL:https://www.st-michael-duisburg.de/veranstaltung/informationsveranstaltung-des-abteigymnasiums/
END:VEVENT
BEGIN:VEVENT
DTSTART;TZID=Europe/Berlin:20221119T150000
DTEND;TZID=Europe/Berlin:20221119T170000
DTSTAMP:20260424T162944
CREATED:20221111T172015Z
LAST-MODIFIED:20221111T172016Z
UID:2125-1668870000-1668877200@www.st-michael-duisburg.de
SUMMARY:Kinder- und Jugendtreff St. Maximilian (Ruhrort)
DESCRIPTION:
URL:https://www.st-michael-duisburg.de/veranstaltung/kinder-und-jugendtreff-st-maximilian-ruhrort-3/
LOCATION:Maximilianhaus\, Weinhagenstr. 25\, Duisburg\, 47119
END:VEVENT
BEGIN:VEVENT
DTSTART;TZID=Europe/Berlin:20221119T174500
DTEND;TZID=Europe/Berlin:20221119T183000
DTSTAMP:20260424T162944
CREATED:20221111T150344Z
LAST-MODIFIED:20221111T153746Z
UID:2060-1668879900-1668882600@www.st-michael-duisburg.de
SUMMARY:Messdieneraufnahme in Vorabendmesse St. Michael (Meiderich)
DESCRIPTION:
URL:https://www.st-michael-duisburg.de/veranstaltung/messdieneraufnahme-in-vorabendmesse-st-michael-meiderich/
LOCATION:St. Michael\, Von-der-Mark-Straße 68a\, Duisburg\, Nordrhein-Westfalen\, 47137\, Deutschland
END:VEVENT
BEGIN:VEVENT
DTSTART;TZID=Europe/Berlin:20221120T110000
DTEND;TZID=Europe/Berlin:20221120T160000
DTSTAMP:20260424T162944
CREATED:20221109T131115Z
LAST-MODIFIED:20221109T131115Z
UID:2001-1668942000-1668960000@www.st-michael-duisburg.de
SUMMARY:Patronatsfest in Christus – unser Friede
DESCRIPTION:Am Christkönigsfest feiern wir das Patronatsfest in Christus – unser Friede. Da die Kirche am 5. 12. 1982 geweiht wurde\, verbinden wir das Patronatsfest mit dem Kirchweihfest. Wir beginnen um 11:00 Uhr mit dem Festhochamt. Anschließend gibt es im Gemeindezentrum ein warmes Mittagessen und/oder Kaffee und Kuchen.  \nHierfür erbitten wir Kuchenspenden aus der Gemeinde.  \nWir beschließen den Tag um 15:30 Uhr mit der Vesper von der Kirchweihe.  \nIn der hl. Messe werden sich auch unsere neuen Kommunionkinder vorstellen.
URL:https://www.st-michael-duisburg.de/veranstaltung/patronatsfest-in-christus-unser-friede/
END:VEVENT
BEGIN:VEVENT
DTSTART;TZID=Europe/Berlin:20221120T111500
DTEND;TZID=Europe/Berlin:20221120T140000
DTSTAMP:20260424T162944
CREATED:20221109T131354Z
LAST-MODIFIED:20221109T131354Z
UID:2003-1668942900-1668952800@www.st-michael-duisburg.de
SUMMARY:Cäcilienfest in St. Michael
DESCRIPTION:Am 20. November feiert der Kirchenchor sein diesjähriges Cäcilienfest. Es beginnt mit der Festmesse um 11:15 Uhr\, in der der Chor die „Missa brevis im alten Stil“ von Carlheinz Heß singen wird. Anschließend findet im Pfarrsaal ein gemütliches Beisammensein mit Mitgliederehrung statt.
URL:https://www.st-michael-duisburg.de/veranstaltung/caecilienfest-in-st-michael/
END:VEVENT
BEGIN:VEVENT
DTSTART;TZID=Europe/Berlin:20221122T170000
DTEND;TZID=Europe/Berlin:20221122T190000
DTSTAMP:20260424T162944
CREATED:20221111T171904Z
LAST-MODIFIED:20221111T171904Z
UID:2123-1669136400-1669143600@www.st-michael-duisburg.de
SUMMARY:Kinder- und Jugendtreff St. Maximilian (Ruhrort)
DESCRIPTION:
URL:https://www.st-michael-duisburg.de/veranstaltung/kinder-und-jugendtreff-st-maximilian-ruhrort-2/
LOCATION:Maximilianhaus\, Weinhagenstr. 25\, Duisburg\, 47119
END:VEVENT
BEGIN:VEVENT
DTSTART;TZID=Europe/Berlin:20221126T150000
DTEND;TZID=Europe/Berlin:20221126T170000
DTSTAMP:20260424T162944
CREATED:20221111T172116Z
LAST-MODIFIED:20221111T172117Z
UID:2127-1669474800-1669482000@www.st-michael-duisburg.de
SUMMARY:Kinder- und Jugendtreff St. Maximilian (Ruhrort)
DESCRIPTION:
URL:https://www.st-michael-duisburg.de/veranstaltung/kinder-und-jugendtreff-st-maximilian-ruhrort-4/
LOCATION:Maximilianhaus\, Weinhagenstr. 25\, Duisburg\, 47119
END:VEVENT
BEGIN:VEVENT
DTSTART;TZID=Europe/Berlin:20221127T163000
DTEND;TZID=Europe/Berlin:20221127T190000
DTSTAMP:20260424T162944
CREATED:20221111T150726Z
LAST-MODIFIED:20221111T153620Z
UID:2064-1669566600-1669575600@www.st-michael-duisburg.de
SUMMARY:Adventkonzert der Flötengruppe in St. Maximilian (Ruhrort)
DESCRIPTION:
URL:https://www.st-michael-duisburg.de/veranstaltung/adventkonzert-der-floetengruppe-in-st-maximilian-ruhrort/
LOCATION:St. Maximilian
END:VEVENT
BEGIN:VEVENT
DTSTART;TZID=Europe/Berlin:20221128T163000
DTEND;TZID=Europe/Berlin:20221128T180000
DTSTAMP:20260424T162944
CREATED:20221122T091929Z
LAST-MODIFIED:20221122T092009Z
UID:2154-1669653000-1669658400@www.st-michael-duisburg.de
SUMMARY:Taizé 2022 Einblicke und Rückblicke auf den Sommer in Taizé
DESCRIPTION:Taizé-Nachmittag: \nAm 28. November 2022 um 16.30\nUhr laden wir\, Kirchort St. Bernhard und die Jugendbeauftragte der Pfarrei\, Bettina Vermeulen\, zu einem Taizé-Nachmittag in St. Bernhard ein. \nIm Zentrum des Treffens stehen die persönliche Begegnung\, eine Andacht\, die sich an dem Klosterleben in Taizé orientiert und eine Vorstellung des ökumenischen Männerklosters im Süden Frankreichs mit zahlreichen Bildern aus dem Aufenthalt im vergangenen Sommer. \nUm besser planen zu können bitten wir um eine Anmeldung bis zum 24.11.2022 unter: \nBettina.Vermeulen@bistum-essen.de \noder:\n0171 4776255 (Frau Böhmert)
URL:https://www.st-michael-duisburg.de/veranstaltung/taize-2022-einblicke-und-rueckblicke-auf-den-sommer-in-taize/
LOCATION:Gemeindesaal St. Bernhard
ORGANIZER;CN="Gemeindeassistentin Frau Vermeulen und Frau B%C3%B6hmert (St. Bernhard)":MAILTO:Bettina.Vermeulen@bistum-essen.de
END:VEVENT
BEGIN:VEVENT
DTSTART;TZID=Europe/Berlin:20221129T170000
DTEND;TZID=Europe/Berlin:20221129T190000
DTSTAMP:20260424T162944
CREATED:20221111T172211Z
LAST-MODIFIED:20221111T172212Z
UID:2129-1669741200-1669748400@www.st-michael-duisburg.de
SUMMARY:Kinder- und Jugendtreff St. Maximilian (Ruhrort)
DESCRIPTION:
URL:https://www.st-michael-duisburg.de/veranstaltung/kinder-und-jugendtreff-st-maximilian-ruhrort-5/
LOCATION:Maximilianhaus\, Weinhagenstr. 25\, Duisburg\, 47119
END:VEVENT
END:VCALENDAR