BEGIN:VCALENDAR
VERSION:2.0
PRODID:-// - ECPv6.15.11//NONSGML v1.0//EN
CALSCALE:GREGORIAN
METHOD:PUBLISH
X-ORIGINAL-URL:https://www.st-michael-duisburg.de
X-WR-CALDESC:Veranstaltungen für 
REFRESH-INTERVAL;VALUE=DURATION:PT1H
X-Robots-Tag:noindex
X-PUBLISHED-TTL:PT1H
BEGIN:VTIMEZONE
TZID:Europe/Berlin
BEGIN:DAYLIGHT
TZOFFSETFROM:+0100
TZOFFSETTO:+0200
TZNAME:CEST
DTSTART:20220327T010000
END:DAYLIGHT
BEGIN:STANDARD
TZOFFSETFROM:+0200
TZOFFSETTO:+0100
TZNAME:CET
DTSTART:20221030T010000
END:STANDARD
BEGIN:DAYLIGHT
TZOFFSETFROM:+0100
TZOFFSETTO:+0200
TZNAME:CEST
DTSTART:20230326T010000
END:DAYLIGHT
BEGIN:STANDARD
TZOFFSETFROM:+0200
TZOFFSETTO:+0100
TZNAME:CET
DTSTART:20231029T010000
END:STANDARD
BEGIN:DAYLIGHT
TZOFFSETFROM:+0100
TZOFFSETTO:+0200
TZNAME:CEST
DTSTART:20240331T010000
END:DAYLIGHT
BEGIN:STANDARD
TZOFFSETFROM:+0200
TZOFFSETTO:+0100
TZNAME:CET
DTSTART:20241027T010000
END:STANDARD
END:VTIMEZONE
BEGIN:VEVENT
DTSTART;TZID=Europe/Berlin:20231217T120000
DTEND;TZID=Europe/Berlin:20231217T150000
DTSTAMP:20260423T234728
CREATED:20231118T105349Z
LAST-MODIFIED:20231118T105349Z
UID:2641-1702814400-1702825200@www.st-michael-duisburg.de
SUMMARY:Einladung zum gemeinsamen Adventessen St. Michael
DESCRIPTION:Der Bereich\, Quartier und Pastoraler Raum der Caritas Duisburg und die Pfarrei St. Michael laden herzlich ein\, den 3. Advent in Gemeinschaft zu verbringen. \nAm 3. Adventsonntag wird ein leckeres Mittagessen serviert. Anschließend werden bei einer Tasse Kaffee und Weihnachtsgebäck Adventslieder gesungen. Alle Interessierten\, unabhängig von Religion oder Nationalität\, sind herzlich eingeladen. \nDas Angebot ist kostenfrei\, eine Anmeldung ist erforderlich. Termin: Sonntag\, 17.12.23 Zeit: 12:00-15:00 Uhr Ort: Pfarreizentrum St. Michael\, Von-der-Mark-Str.70\, 47137 Duisburg. \nAnmeldung bitte im Pfarrbüro St Michael\, Telefon: 0203/450630 oder Mail: monika.pistner@caritas-duisburg.de bzw. andrea.ludwig@caritas-duisburg.de.
URL:https://www.st-michael-duisburg.de/veranstaltung/einladung-zum-gemeinsamen-adventessen-st-michael/
LOCATION:Pfarreizentrum St. Michael
END:VEVENT
END:VCALENDAR