BEGIN:VCALENDAR
VERSION:2.0
PRODID:-// - ECPv6.15.11//NONSGML v1.0//EN
CALSCALE:GREGORIAN
METHOD:PUBLISH
X-ORIGINAL-URL:https://www.st-michael-duisburg.de
X-WR-CALDESC:Veranstaltungen für 
REFRESH-INTERVAL;VALUE=DURATION:PT1H
X-Robots-Tag:noindex
X-PUBLISHED-TTL:PT1H
BEGIN:VTIMEZONE
TZID:Europe/Berlin
BEGIN:DAYLIGHT
TZOFFSETFROM:+0100
TZOFFSETTO:+0200
TZNAME:CEST
DTSTART:20220327T010000
END:DAYLIGHT
BEGIN:STANDARD
TZOFFSETFROM:+0200
TZOFFSETTO:+0100
TZNAME:CET
DTSTART:20221030T010000
END:STANDARD
BEGIN:DAYLIGHT
TZOFFSETFROM:+0100
TZOFFSETTO:+0200
TZNAME:CEST
DTSTART:20230326T010000
END:DAYLIGHT
BEGIN:STANDARD
TZOFFSETFROM:+0200
TZOFFSETTO:+0100
TZNAME:CET
DTSTART:20231029T010000
END:STANDARD
BEGIN:DAYLIGHT
TZOFFSETFROM:+0100
TZOFFSETTO:+0200
TZNAME:CEST
DTSTART:20240331T010000
END:DAYLIGHT
BEGIN:STANDARD
TZOFFSETFROM:+0200
TZOFFSETTO:+0100
TZNAME:CET
DTSTART:20241027T010000
END:STANDARD
END:VTIMEZONE
BEGIN:VEVENT
DTSTART;TZID=Europe/Berlin:20231210T110000
DTEND;TZID=Europe/Berlin:20231210T140000
DTSTAMP:20260424T005723
CREATED:20231120T185407Z
LAST-MODIFIED:20231120T185407Z
UID:2651-1702206000-1702216800@www.st-michael-duisburg.de
SUMMARY:Adventskaffee der KÖB –Kath. Öffentl. Bücherei
DESCRIPTION:Das KÖB-Team freut sich auf einen gemütlichen Vormittag mit Christstollen und Plätzchen und lädt alle herzlich dazu ein. Außerdem werden die Gewinner des Buchausstellungsrätsels bekannt gegeben.
URL:https://www.st-michael-duisburg.de/veranstaltung/adventskaffee-der-koeb-kath-oeffentl-buecherei/
LOCATION:Treffpunkt St. Laurentius
END:VEVENT
BEGIN:VEVENT
DTSTART;TZID=Europe/Berlin:20231210T160000
DTEND;TZID=Europe/Berlin:20231210T180000
DTSTAMP:20260424T005723
CREATED:20231120T185832Z
LAST-MODIFIED:20231120T185832Z
UID:2654-1702224000-1702231200@www.st-michael-duisburg.de
SUMMARY:Adventstörchen 10 in St. Ewaldi
DESCRIPTION:Am 10. Dezember laden die Frauen des Polizeichors Duisburg zusammen mit der kfd St. Ewaldi zum Adventstörchen in die Ewaldi-Kirche ein. Das Konzert beginnt um 16 Uhr in der Ewaldi-Kirche. Es wird kein Eintritt genommen. Die Frauen freuen sich am Ende des Konzerts über Spenden. Eine Spendenbox steht hinten in der Kirche. Das Vorstandsteam der kfd St. Ewaldi freut sich\, wenn die Angebote von Vielen wahrgenommen und zahlreiche Besucher begrüßt werden können.
URL:https://www.st-michael-duisburg.de/veranstaltung/adventstoerchen-10-in-st-ewaldi/
LOCATION:St. Ewaldi
END:VEVENT
END:VCALENDAR