BEGIN:VCALENDAR
VERSION:2.0
PRODID:-// - ECPv6.15.11//NONSGML v1.0//EN
CALSCALE:GREGORIAN
METHOD:PUBLISH
X-ORIGINAL-URL:https://www.st-michael-duisburg.de
X-WR-CALDESC:Veranstaltungen für 
REFRESH-INTERVAL;VALUE=DURATION:PT1H
X-Robots-Tag:noindex
X-PUBLISHED-TTL:PT1H
BEGIN:VTIMEZONE
TZID:Europe/Berlin
BEGIN:DAYLIGHT
TZOFFSETFROM:+0100
TZOFFSETTO:+0200
TZNAME:CEST
DTSTART:20220327T010000
END:DAYLIGHT
BEGIN:STANDARD
TZOFFSETFROM:+0200
TZOFFSETTO:+0100
TZNAME:CET
DTSTART:20221030T010000
END:STANDARD
BEGIN:DAYLIGHT
TZOFFSETFROM:+0100
TZOFFSETTO:+0200
TZNAME:CEST
DTSTART:20230326T010000
END:DAYLIGHT
BEGIN:STANDARD
TZOFFSETFROM:+0200
TZOFFSETTO:+0100
TZNAME:CET
DTSTART:20231029T010000
END:STANDARD
BEGIN:DAYLIGHT
TZOFFSETFROM:+0100
TZOFFSETTO:+0200
TZNAME:CEST
DTSTART:20240331T010000
END:DAYLIGHT
BEGIN:STANDARD
TZOFFSETFROM:+0200
TZOFFSETTO:+0100
TZNAME:CET
DTSTART:20241027T010000
END:STANDARD
END:VTIMEZONE
BEGIN:VEVENT
DTSTART;TZID=Europe/Berlin:20231127T163000
DTEND;TZID=Europe/Berlin:20231127T173000
DTSTAMP:20260424T021127
CREATED:20231118T105903Z
LAST-MODIFIED:20231118T105903Z
UID:2643-1701102600-1701106200@www.st-michael-duisburg.de
SUMMARY:Kennenlerntreffen zur Sternsingeraktion 2024 für den Bereich Meiderich
DESCRIPTION:M
URL:https://www.st-michael-duisburg.de/veranstaltung/kennenlerntreffen-zur-sternsingeraktion-2024-fuer-den-bereich-meiderich/
LOCATION:Pfarreizentrum St. Michael
END:VEVENT
BEGIN:VEVENT
DTSTART;TZID=Europe/Berlin:20231127T190000
DTEND;TZID=Europe/Berlin:20231127T213000
DTSTAMP:20260424T021127
CREATED:20231120T184345Z
LAST-MODIFIED:20231120T184345Z
UID:2645-1701111600-1701120600@www.st-michael-duisburg.de
SUMMARY:Team Kirchort St. Michael
DESCRIPTION:Das nächste Treffen des Teams Kirchort St. Michael findet am Montag\, 27. November 2023\, um 19.00 Uhr im Pfarreizentrum\, Von-der-Mark-Str. 70\, statt. Alle\, die sich informieren und/oder am Kirchort St. Michael mitarbeiten möchten\, sind herzlich eingeladen.
URL:https://www.st-michael-duisburg.de/veranstaltung/team-kirchort-st-michael/
LOCATION:Pfarreizentrum St. Michael
END:VEVENT
END:VCALENDAR