BEGIN:VCALENDAR
VERSION:2.0
PRODID:-// - ECPv6.15.11//NONSGML v1.0//EN
CALSCALE:GREGORIAN
METHOD:PUBLISH
X-ORIGINAL-URL:https://www.st-michael-duisburg.de
X-WR-CALDESC:Veranstaltungen für 
REFRESH-INTERVAL;VALUE=DURATION:PT1H
X-Robots-Tag:noindex
X-PUBLISHED-TTL:PT1H
BEGIN:VTIMEZONE
TZID:Europe/Berlin
BEGIN:DAYLIGHT
TZOFFSETFROM:+0100
TZOFFSETTO:+0200
TZNAME:CEST
DTSTART:20220327T010000
END:DAYLIGHT
BEGIN:STANDARD
TZOFFSETFROM:+0200
TZOFFSETTO:+0100
TZNAME:CET
DTSTART:20221030T010000
END:STANDARD
BEGIN:DAYLIGHT
TZOFFSETFROM:+0100
TZOFFSETTO:+0200
TZNAME:CEST
DTSTART:20230326T010000
END:DAYLIGHT
BEGIN:STANDARD
TZOFFSETFROM:+0200
TZOFFSETTO:+0100
TZNAME:CET
DTSTART:20231029T010000
END:STANDARD
BEGIN:DAYLIGHT
TZOFFSETFROM:+0100
TZOFFSETTO:+0200
TZNAME:CEST
DTSTART:20240331T010000
END:DAYLIGHT
BEGIN:STANDARD
TZOFFSETFROM:+0200
TZOFFSETTO:+0100
TZNAME:CET
DTSTART:20241027T010000
END:STANDARD
END:VTIMEZONE
BEGIN:VEVENT
DTSTART;TZID=Europe/Berlin:20230904T190000
DTEND;TZID=Europe/Berlin:20230904T210000
DTSTAMP:20260424T045750
CREATED:20230829T100852Z
LAST-MODIFIED:20230829T100852Z
UID:2587-1693854000-1693861200@www.st-michael-duisburg.de
SUMMARY:Treffen des Teams Kirchort St. Michael
DESCRIPTION:Das nächste Treffen des Teams Kirchort St. Michael findet am Montag\, 04. September\n2023\, um 19.00 Uhr im Pfarreizentrum\, Von-der-MarkStr. 70\, statt. Alle Interessierten sind herzlich eingeladen. Wir schauen auf die Termine und Angebote im 2. Halbjahr.
URL:https://www.st-michael-duisburg.de/veranstaltung/treffen-des-teams-kirchort-st-michael/
LOCATION:Pfarreizentrum St. Michael
END:VEVENT
END:VCALENDAR