BEGIN:VCALENDAR
VERSION:2.0
PRODID:-// - ECPv6.15.11//NONSGML v1.0//EN
CALSCALE:GREGORIAN
METHOD:PUBLISH
X-ORIGINAL-URL:https://www.st-michael-duisburg.de
X-WR-CALDESC:Veranstaltungen für 
REFRESH-INTERVAL;VALUE=DURATION:PT1H
X-Robots-Tag:noindex
X-PUBLISHED-TTL:PT1H
BEGIN:VTIMEZONE
TZID:Europe/Berlin
BEGIN:DAYLIGHT
TZOFFSETFROM:+0100
TZOFFSETTO:+0200
TZNAME:CEST
DTSTART:20220327T010000
END:DAYLIGHT
BEGIN:STANDARD
TZOFFSETFROM:+0200
TZOFFSETTO:+0100
TZNAME:CET
DTSTART:20221030T010000
END:STANDARD
BEGIN:DAYLIGHT
TZOFFSETFROM:+0100
TZOFFSETTO:+0200
TZNAME:CEST
DTSTART:20230326T010000
END:DAYLIGHT
BEGIN:STANDARD
TZOFFSETFROM:+0200
TZOFFSETTO:+0100
TZNAME:CET
DTSTART:20231029T010000
END:STANDARD
BEGIN:DAYLIGHT
TZOFFSETFROM:+0100
TZOFFSETTO:+0200
TZNAME:CEST
DTSTART:20240331T010000
END:DAYLIGHT
BEGIN:STANDARD
TZOFFSETFROM:+0200
TZOFFSETTO:+0100
TZNAME:CET
DTSTART:20241027T010000
END:STANDARD
END:VTIMEZONE
BEGIN:VEVENT
DTSTART;TZID=Europe/Berlin:20230319T150000
DTEND;TZID=Europe/Berlin:20230319T160000
DTSTAMP:20260424T124635
CREATED:20230302T120924Z
LAST-MODIFIED:20230302T120924Z
UID:2344-1679238000-1679241600@www.st-michael-duisburg.de
SUMMARY:Startgottesdienst der Firmandinnen und Firmanden
DESCRIPTION:Beginn der Firmvorbereitung 2023
URL:https://www.st-michael-duisburg.de/veranstaltung/startgottesdienst-der-firmandinnen-und-firmanden/
LOCATION:St. Michael
END:VEVENT
BEGIN:VEVENT
DTSTART;TZID=Europe/Berlin:20230319T180000
DTEND;TZID=Europe/Berlin:20230319T190000
DTSTAMP:20260424T124635
CREATED:20230302T093827Z
LAST-MODIFIED:20230308T153118Z
UID:2337-1679248800-1679252400@www.st-michael-duisburg.de
SUMMARY:Taizè Gottesdienst in St. Maximilian (Ruhrort)
DESCRIPTION:Wir laden ein zum MEDIDATIVEN GOTTESDIENST\nmit Psalmgebet\, Schriftlesung und Stille\nbegleitet von den Gesängen aus Taizé \nSonntag\, 19. März 2023 um 18.00 Uhr\nKirche St. Maximilian\,\nDuisburg Ruhrort\, Fabrikstraße \nMitwirkinde:\nOffener Kinder- und Jugendtreff St. Maximilian\nInstrumentalkreis St. Maximilian Ruhrort\n(Blockflöten\, Querflöten\, Klarinette\, Gitarren\, Klavier\, Orgel)\nVHS-Blockflötenensemble\nChor St. Ludgerus\, Walsum\, Ltg. Stefanie Peelen\nGesamtleitung: Birgit Jacobs
URL:https://www.st-michael-duisburg.de/veranstaltung/taize-gottesdienst-in-st-maximilian/
LOCATION:St. Maximilian
END:VEVENT
END:VCALENDAR