BEGIN:VCALENDAR
VERSION:2.0
PRODID:-// - ECPv6.15.11//NONSGML v1.0//EN
CALSCALE:GREGORIAN
METHOD:PUBLISH
X-ORIGINAL-URL:https://www.st-michael-duisburg.de
X-WR-CALDESC:Veranstaltungen für 
REFRESH-INTERVAL;VALUE=DURATION:PT1H
X-Robots-Tag:noindex
X-PUBLISHED-TTL:PT1H
BEGIN:VTIMEZONE
TZID:Europe/Berlin
BEGIN:DAYLIGHT
TZOFFSETFROM:+0100
TZOFFSETTO:+0200
TZNAME:CEST
DTSTART:20210328T010000
END:DAYLIGHT
BEGIN:STANDARD
TZOFFSETFROM:+0200
TZOFFSETTO:+0100
TZNAME:CET
DTSTART:20211031T010000
END:STANDARD
BEGIN:DAYLIGHT
TZOFFSETFROM:+0100
TZOFFSETTO:+0200
TZNAME:CEST
DTSTART:20220327T010000
END:DAYLIGHT
BEGIN:STANDARD
TZOFFSETFROM:+0200
TZOFFSETTO:+0100
TZNAME:CET
DTSTART:20221030T010000
END:STANDARD
BEGIN:DAYLIGHT
TZOFFSETFROM:+0100
TZOFFSETTO:+0200
TZNAME:CEST
DTSTART:20230326T010000
END:DAYLIGHT
BEGIN:STANDARD
TZOFFSETFROM:+0200
TZOFFSETTO:+0100
TZNAME:CET
DTSTART:20231029T010000
END:STANDARD
END:VTIMEZONE
BEGIN:VEVENT
DTSTART;TZID=Europe/Berlin:20220407T180000
DTEND;TZID=Europe/Berlin:20220407T200000
DTSTAMP:20260425T010450
CREATED:20220222T144457Z
LAST-MODIFIED:20220222T144457Z
UID:1750-1649354400-1649361600@www.st-michael-duisburg.de
SUMMARY:Erstes Treffen des Teams „Kirchort St. Michael
DESCRIPTION:Herzliche Einladung zum ersten Treffen des Teams „Kirchort St. Michael“ \nGerade in diesen unruhigen Zeiten spüren wir deutlich\, dass Kirche vor Ort aktiv gelebt werden muss\, um zu bestehen. \nAm Kirchort St. Michael in Mittel- und Untermeiderich wollen wir ein Team bilden\, das die Situation vor Ort im Blick behält und darauf reagiert. \nUnd dafür brauchen wir Ihre Mitarbeit im Team „Kirchort St. Michael“. Was wollen wir tun? Was wollen Sie? Kommen Sie doch einfach mit Ihren Ideen vorbei und machen Sie mit. \nGemeinsam können wir etwas bewirken. \nWir freuen uns auf Sie. \nUnser erstes Treffen soll am Donnerstag\, dem 07. April 2022\, um 18.00 Uhr im Pfarrsaal von \nSt. Michael\, Von-der-Mark-Str. 70 stattfinden. Herzliche Einladung! \nBei diesem Treffen wollen wir einander kennenlernen und uns darüber austauschen\, was Ihnen hier in St. Michael wichtig ist. Welche Angebote würden Ihr Interesse wecken? Wofür würden Sie sich einsetzen? \nIm Namen des Vorbereitungsteams grüßt Sie herzlich \nMarianne Philippi
URL:https://www.st-michael-duisburg.de/veranstaltung/erstes-treffen-des-teams-kirchort-st-michael/
LOCATION:Pfarreizentrum St. Michael
END:VEVENT
END:VCALENDAR