BEGIN:VCALENDAR
VERSION:2.0
PRODID:-// - ECPv6.15.11//NONSGML v1.0//EN
CALSCALE:GREGORIAN
METHOD:PUBLISH
X-ORIGINAL-URL:https://www.st-michael-duisburg.de
X-WR-CALDESC:Veranstaltungen für 
REFRESH-INTERVAL;VALUE=DURATION:PT1H
X-Robots-Tag:noindex
X-PUBLISHED-TTL:PT1H
BEGIN:VTIMEZONE
TZID:Europe/Berlin
BEGIN:DAYLIGHT
TZOFFSETFROM:+0100
TZOFFSETTO:+0200
TZNAME:CEST
DTSTART:20210328T010000
END:DAYLIGHT
BEGIN:STANDARD
TZOFFSETFROM:+0200
TZOFFSETTO:+0100
TZNAME:CET
DTSTART:20211031T010000
END:STANDARD
BEGIN:DAYLIGHT
TZOFFSETFROM:+0100
TZOFFSETTO:+0200
TZNAME:CEST
DTSTART:20220327T010000
END:DAYLIGHT
BEGIN:STANDARD
TZOFFSETFROM:+0200
TZOFFSETTO:+0100
TZNAME:CET
DTSTART:20221030T010000
END:STANDARD
BEGIN:DAYLIGHT
TZOFFSETFROM:+0100
TZOFFSETTO:+0200
TZNAME:CEST
DTSTART:20230326T010000
END:DAYLIGHT
BEGIN:STANDARD
TZOFFSETFROM:+0200
TZOFFSETTO:+0100
TZNAME:CET
DTSTART:20231029T010000
END:STANDARD
END:VTIMEZONE
BEGIN:VEVENT
DTSTART;TZID=Europe/Berlin:20220304T193000
DTEND;TZID=Europe/Berlin:20220304T220000
DTSTAMP:20260425T020915
CREATED:20220222T152429Z
LAST-MODIFIED:20220222T152556Z
UID:1752-1646422200-1646431200@www.st-michael-duisburg.de
SUMMARY:Jugendausschuss-Sitzung
DESCRIPTION:Einladung zur Jugendausschuss-Sitzung\nöffentliche Sitzung am\n4. März 2022\num 19:30 Uhr\nam Kirchort St. Michael\nim Michaelssaal!\nHiermit möchten wir alle Ansprechpersonen der Jugendarbeit und alle\ninteressierten Jugendlichen der Pfarrei St. Michael zum Austausch und\nPlanen konkreter Aktionen vor Ort einladen.\nDu hast ein konkretes Anliegen oder bist neugierig\, worüber der\nJugendausschuss gerade so nachdenkt?\nKomm uns gerne an diesem Abend in Meiderich besuchen.\nDie Anschrift lautet:\nVon-der-Mark-Straße 68a\, 47137 Duisburg Meiderich.\nDu möchtest regelmäßig an den Ausschuss-Sitzungen teilnehmen?\nDann lass uns Deine Mailadresse da und wir halten Dich auf dem\nLaufenden!\nAnmeldungen werden aus organisatorischen Gründen bitte bis zum\n03.03.2022 an jugendausschuss@st-michael-duisburg.de\ngesendet.\nVielen Dank!\nWir freuen uns auf Dich!\nDer Jugendausschuss der Pfarrei St. Michael\n(Es gelten die tagesaktuellen Corona-Regeln!)
URL:https://www.st-michael-duisburg.de/veranstaltung/jugendausschuss-sitzung/
LOCATION:St. Michael
END:VEVENT
END:VCALENDAR